BEGIN:VCALENDAR
VERSION:2.0
PRODID:-//pretix//GFF_Tickets//
BEGIN:VTIMEZONE
TZID:Europe/Berlin
BEGIN:STANDARD
DTSTART:20001029T040000
RRULE:FREQ=YEARLY;BYDAY=-1SU;BYMONTH=10
TZNAME:CET
TZOFFSETFROM:+0200
TZOFFSETTO:+0100
END:STANDARD
BEGIN:DAYLIGHT
DTSTART:20000326T030000
RRULE:FREQ=YEARLY;BYDAY=-1SU;BYMONTH=3
TZNAME:CEST
TZOFFSETFROM:+0100
TZOFFSETTO:+0200
END:DAYLIGHT
END:VTIMEZONE
BEGIN:VEVENT
UID:pretix-GFF-digitalstudien-0@tickets.freiheitsrechte.org
DTSTART;TZID=Europe/Berlin:20230427T140000
DTEND;TZID=Europe/Berlin:20230427T170000
DESCRIPTION:Tickets: https://tickets.freiheitsrechte.org/GFF/digitalstudien
 /\nVeranstalter: Gesellschaft für Freiheitsrechte e.V. - GFF
DTSTAMP:20260420T015209Z
LOCATION:Hotel Albrechtshof\, Albrechtstraße 8\, 10117 Berlin/ Online
SUMMARY:#GrundrechteImDigitalen: Die Verantwortung von Facebook\, Amazon & 
 Co.
END:VEVENT
END:VCALENDAR
